BEGIN:VCALENDAR
VERSION:2.0
PRODID:-//Ballantrae Golf Club - Pelham, AL - ECPv6.15.20//NONSGML v1.0//EN
CALSCALE:GREGORIAN
METHOD:PUBLISH
X-ORIGINAL-URL:https://ballantraegolf.com
X-WR-CALDESC:Events for Ballantrae Golf Club - Pelham, AL
REFRESH-INTERVAL;VALUE=DURATION:PT1H
X-Robots-Tag:noindex
X-PUBLISHED-TTL:PT1H
BEGIN:VTIMEZONE
TZID:UTC
BEGIN:STANDARD
TZOFFSETFROM:+0000
TZOFFSETTO:+0000
TZNAME:UTC
DTSTART:20250101T000000
END:STANDARD
END:VTIMEZONE
BEGIN:VEVENT
DTSTART;TZID=UTC:20260713T080000
DTEND;TZID=UTC:20260713T180000
DTSTAMP:20260421T082652
CREATED:20260420T145744Z
LAST-MODIFIED:20260420T150019Z
UID:10000108-1783929600-1783965600@ballantraegolf.com
SUMMARY:Aerification
DESCRIPTION:The entire facility will be closed
URL:https://ballantraegolf.com/event/aerification/
END:VEVENT
BEGIN:VEVENT
DTSTART;TZID=UTC:20260714T080000
DTEND;TZID=UTC:20260714T180000
DTSTAMP:20260421T082652
CREATED:20260420T145903Z
LAST-MODIFIED:20260420T145955Z
UID:10000109-1784016000-1784052000@ballantraegolf.com
SUMMARY:Aerification
DESCRIPTION:The entire facility will be closed
URL:https://ballantraegolf.com/event/aerification-2/
END:VEVENT
END:VCALENDAR